BEGIN:VCALENDAR
VERSION:2.0
PRODID:-//Squarespace Inc/Squarespace 6//v6//EN
BEGIN:VEVENT
UID:5f5ef5b3ce23ec19f70e2a90@squarespace.com
DTSTAMP:20200914T044722Z
DTSTART:20201103T063000Z
DTEND:20201103T073000Z
SUMMARY:NO CLASSES MONDAY 31st OCTOBER\, 2nd &amp\; 3rd NOVEMBER
END:VEVENT
END:VCALENDAR
