BEGIN:VCALENDAR
VERSION:2.0
PRODID:-//Squarespace Inc/Squarespace 6//v6//EN
BEGIN:VEVENT
UID:5f5ef3026ac38029061a9d1a@squarespace.com
DTSTAMP:20200914T043613Z
DTSTART:20200928T073000Z
DTEND:20200928T083000Z
SUMMARY:NO CLASSES MONDAY 28th SEPTEMBER
END:VEVENT
END:VCALENDAR
