BEGIN:VCALENDAR
VERSION:2.0
PRODID:-//Squarespace Inc/Squarespace 6//v6//EN
BEGIN:VEVENT
UID:5e8d15471b189c65278fc9f2@squarespace.com
DTSTAMP:20200408T000558Z
DTSTART:20200428T073000Z
DTEND:20200428T083000Z
SUMMARY:Zoom swimnastics session (5.30pm on Tuesday 28th April)
END:VEVENT
END:VCALENDAR
