BEGIN:VCALENDAR
VERSION:2.0
PRODID:-//Squarespace Inc/Squarespace 6//v6//EN
BEGIN:VEVENT
UID:5f0d1237e4b78a3c9793f373@squarespace.com
DTSTAMP:20200714T020238Z
DTSTART:20200825T073000Z
DTEND:20200825T083000Z
SUMMARY:Zoom swimnastics session (5.30pm on Tuesday 25th August)
END:VEVENT
END:VCALENDAR
