BEGIN:VCALENDAR
VERSION:2.0
PRODID:-//Squarespace Inc/Squarespace 6//v6//EN
BEGIN:VEVENT
UID:5f0d11e2f8c3516ffa82ce7c@squarespace.com
DTSTAMP:20200714T020116Z
DTSTART:20200818T073000Z
DTEND:20200818T083000Z
SUMMARY:Zoom swimnastics session (5.30pm on Tuesday 18th August)
END:VEVENT
END:VCALENDAR
