BEGIN:VCALENDAR
VERSION:2.0
PRODID:-//Squarespace Inc/Squarespace 6//v6//EN
BEGIN:VEVENT
UID:5f0d118a0efc4d3eaf8ef61a@squarespace.com
DTSTAMP:20200714T015946Z
DTSTART:20200811T073000Z
DTEND:20200811T083000Z
SUMMARY:Zoom swimnastics session (5.30pm on Tuesday 11th August)
END:VEVENT
END:VCALENDAR
