BEGIN:VCALENDAR
VERSION:2.0
PRODID:-//Squarespace Inc/Squarespace 6//v6//EN
BEGIN:VEVENT
UID:5f0d112daa6bc41509f3b10b@squarespace.com
DTSTAMP:20200714T015817Z
DTSTART:20200804T073000Z
DTEND:20200804T083000Z
SUMMARY:Zoom swimnastics session (5.30pm on Tuesday 4th August)
END:VEVENT
END:VCALENDAR
