BEGIN:VCALENDAR
VERSION:2.0
PRODID:-//Squarespace Inc/Squarespace 6//v6//EN
BEGIN:VEVENT
UID:5f0537109560657a08ea8e8d@squarespace.com
DTSTAMP:20200708T030149Z
DTSTART:20200728T073000Z
DTEND:20200728T083000Z
SUMMARY:Zoom swimnastics session (5.30pm on Tuesday 28th July)
END:VEVENT
END:VCALENDAR
