BEGIN:VCALENDAR
VERSION:2.0
PRODID:-//Squarespace Inc/Squarespace 6//v6//EN
BEGIN:VEVENT
UID:5e7821b034a6bb7701b3abc3@squarespace.com
DTSTAMP:20200323T024418Z
DTSTART:20200327T220000Z
DTEND:20200327T230000Z
SUMMARY:Zoom swimnastics session (9.00am on Saturday 28th March)
END:VEVENT
END:VCALENDAR
