BEGIN:VCALENDAR
VERSION:2.0
PRODID:-//Squarespace Inc/Squarespace 6//v6//EN
BEGIN:VEVENT
UID:5ebcc35e67c6a7693afb3fd5@squarespace.com
DTSTAMP:20200514T040509Z
DTSTART:20200528T073000Z
DTEND:20200528T083000Z
SUMMARY:Zoom swimnastics session (5.30pm on Thursday 28th May)
END:VEVENT
END:VCALENDAR
