BEGIN:VCALENDAR
VERSION:2.0
PRODID:-//Squarespace Inc/Squarespace 6//v6//EN
BEGIN:VEVENT
UID:5fc84e908bd77935674cd9c0@squarespace.com
DTSTAMP:20201207T062334Z
DTSTART:20201229T063000Z
DTEND:20201229T073000Z
SUMMARY:Zoom swimnastics session (5.30pm on Tuesday 29th December)
END:VEVENT
END:VCALENDAR
