BEGIN:VCALENDAR
VERSION:2.0
PRODID:-//Squarespace Inc/Squarespace 6//v6//EN
BEGIN:VEVENT
UID:5ef14e3caef65a0d3c983ba3@squarespace.com
DTSTAMP:20200623T003528Z
DTSTART:20200629T073000Z
DTEND:20200629T083000Z
SUMMARY:Zoom swimnastics session (5.30pm on Monday 29TH June)
END:VEVENT
END:VCALENDAR
