BEGIN:VCALENDAR
VERSION:2.0
PRODID:-//Squarespace Inc/Squarespace 6//v6//EN
BEGIN:VEVENT
UID:5f5ef59b1ba09b6baacd67c2@squarespace.com
DTSTAMP:20200914T044631Z
DTSTART:20201029T063000Z
DTEND:20201029T073000Z
SUMMARY:Zoom swimnastics session (5.30pm on Thursday 29th October)
END:VEVENT
END:VCALENDAR
