BEGIN:VCALENDAR
VERSION:2.0
PRODID:-//Squarespace Inc/Squarespace 6//v6//EN
BEGIN:VEVENT
UID:5f5ef3479e32a319f55db8b4@squarespace.com
DTSTAMP:20200914T043636Z
DTSTART:20200929T073000Z
DTEND:20200929T083000Z
SUMMARY:Zoom swimnastics session (5.30pm on Tuesday 29th September)
END:VEVENT
END:VCALENDAR
