BEGIN:VCALENDAR
VERSION:2.0
PRODID:-//Squarespace Inc/Squarespace 6//v6//EN
BEGIN:VEVENT
UID:5e8d15b8e5e3517c6bbf08fc@squarespace.com
DTSTAMP:20200408T000743Z
DTSTART:20200429T073000Z
DTEND:20200429T083000Z
SUMMARY:Zoom swimnastics session (5.30pm on Wednesday 29th April)
END:VEVENT
END:VCALENDAR
