BEGIN:VCALENDAR
VERSION:2.0
PRODID:-//Squarespace Inc/Squarespace 6//v6//EN
BEGIN:VEVENT
UID:5fd930967747501c74c0a191@squarespace.com
DTSTAMP:20201215T215448Z
DTSTART:20210202T063000Z
DTEND:20210202T073000Z
SUMMARY:Zoom swimnastics session (5.30pm on Tuesday 2nd February)
END:VEVENT
END:VCALENDAR
