BEGIN:VCALENDAR
VERSION:2.0
PRODID:-//Squarespace Inc/Squarespace 6//v6//EN
BEGIN:VEVENT
UID:5e7d9482aff3dd28067f1ea8@squarespace.com
DTSTAMP:20200327T062717Z
DTSTART:20200402T063000Z
DTEND:20200402T073000Z
SUMMARY:Zoom swimnastics session (5.30pm on Thursday 2nd April)
END:VEVENT
END:VCALENDAR
