BEGIN:VCALENDAR
VERSION:2.0
PRODID:-//Squarespace Inc/Squarespace 6//v6//EN
BEGIN:VEVENT
UID:5ef14eb69723f531490ac91c@squarespace.com
DTSTAMP:20200623T003728Z
DTSTART:20200702T073000Z
DTEND:20200702T083000Z
SUMMARY:Zoom swimnastics session (5.30pm on Thursday 2nd July)
END:VEVENT
END:VCALENDAR
