BEGIN:VCALENDAR
VERSION:2.0
PRODID:-//Squarespace Inc/Squarespace 6//v6//EN
BEGIN:VEVENT
UID:5ecb09d8ab61810adcf2eea4@squarespace.com
DTSTAMP:20200524T235744Z
DTSTART:20200602T073000Z
DTEND:20200602T083000Z
SUMMARY:Zoom swimnastics session (5.30pm on Tuesday 2nd June)
END:VEVENT
END:VCALENDAR
