BEGIN:VCALENDAR
VERSION:2.0
PRODID:-//Squarespace Inc/Squarespace 6//v6//EN
BEGIN:VEVENT
UID:5e8d1496fc846f1ffc9145c6@squarespace.com
DTSTAMP:20200408T001020Z
DTSTART:20200501T230000Z
DTEND:20200502T000000Z
SUMMARY:Zoom swimnastics session (9.00am on Saturday 2nd May)
END:VEVENT
END:VCALENDAR
