BEGIN:VCALENDAR
VERSION:2.0
PRODID:-//Squarespace Inc/Squarespace 6//v6//EN
BEGIN:VEVENT
UID:5f0d1206388be04dded2fd90@squarespace.com
DTSTAMP:20200714T020150Z
DTSTART:20200820T073000Z
DTEND:20200820T083000Z
SUMMARY:Zoom swimnastics session (5.30pm on Thursday 20th August)
END:VEVENT
END:VCALENDAR
