BEGIN:VCALENDAR
VERSION:2.0
PRODID:-//Squarespace Inc/Squarespace 6//v6//EN
BEGIN:VEVENT
UID:5f0d11abbf5bbd4148b29a68@squarespace.com
DTSTAMP:20200714T020021Z
DTSTART:20200813T073000Z
DTEND:20200813T083000Z
SUMMARY:Zoom swimnastics session (5.30pm on Thursday 13th August)
END:VEVENT
END:VCALENDAR
