BEGIN:VCALENDAR
VERSION:2.0
PRODID:-//Squarespace Inc/Squarespace 6//v6//EN
BEGIN:VEVENT
UID:5f0d1156c4fe9411243179f1@squarespace.com
DTSTAMP:20200714T015858Z
DTSTART:20200806T073000Z
DTEND:20200806T083000Z
SUMMARY:Zoom swimnastics session (5.30pm on Thursday 6th August)
END:VEVENT
END:VCALENDAR
