BEGIN:VCALENDAR
VERSION:2.0
PRODID:-//Squarespace Inc/Squarespace 6//v6//EN
BEGIN:VEVENT
UID:5ef14e82d15ac858b699cc63@squarespace.com
DTSTAMP:20200630T041655Z
DTSTART:20200630T073000Z
DTEND:20200630T083000Z
SUMMARY:Zoom swimnastics session (5.30pm on Tuesday 30th June)
END:VEVENT
END:VCALENDAR
