BEGIN:VCALENDAR
VERSION:2.0
PRODID:-//Squarespace Inc/Squarespace 6//v6//EN
BEGIN:VEVENT
UID:5f85281a4cb5bf0e569c3107@squarespace.com
DTSTAMP:20201013T040809Z
DTSTART:20201130T063000Z
DTEND:20201130T073000Z
SUMMARY:Zoom swimnastics session (5.30pm on Monday 30th November)
END:VEVENT
END:VCALENDAR
