BEGIN:VCALENDAR
VERSION:2.0
PRODID:-//Squarespace Inc/Squarespace 6//v6//EN
BEGIN:VEVENT
UID:5e8d16047935fa74f97e28ec@squarespace.com
DTSTAMP:20200408T000858Z
DTSTART:20200430T073000Z
DTEND:20200430T083000Z
SUMMARY:Zoom swimnastics session (5.30pm on Thursday 30th April)
END:VEVENT
END:VCALENDAR
