BEGIN:VCALENDAR
VERSION:2.0
PRODID:-//Squarespace Inc/Squarespace 6//v6//EN
BEGIN:VEVENT
UID:5e78228282535d5a1585708e@squarespace.com
DTSTAMP:20200323T024548Z
DTSTART:20200330T063000Z
DTEND:20200330T073000Z
SUMMARY:Zoom swimnastics session (5.30pm on Monday 30th March)
END:VEVENT
END:VCALENDAR
