BEGIN:VCALENDAR
VERSION:2.0
PRODID:-//Squarespace Inc/Squarespace 6//v6//EN
BEGIN:VEVENT
UID:5ebcc3a5333e482a6e08a648@squarespace.com
DTSTAMP:20200514T040634Z
DTSTART:20200529T230000Z
DTEND:20200530T000000Z
SUMMARY:Zoom swimnastics session (9.00am on Saturday 30th May) 
END:VEVENT
END:VCALENDAR
