BEGIN:VCALENDAR
VERSION:2.0
PRODID:-//Squarespace Inc/Squarespace 6//v6//EN
BEGIN:VEVENT
UID:5f309cb99056f72a0c18c3ba@squarespace.com
DTSTAMP:20200810T010305Z
DTSTART:20200831T073000Z
DTEND:20200831T083000Z
SUMMARY:Zoom swimnastics session (5.30pm on Monday 31st August)
END:VEVENT
END:VCALENDAR
