BEGIN:VCALENDAR
VERSION:2.0
PRODID:-//Squarespace Inc/Squarespace 6//v6//EN
BEGIN:VEVENT
UID:5e7822dcb0412f11a928019b@squarespace.com
DTSTAMP:20200327T055644Z
DTSTART:20200331T063000Z
DTEND:20200331T073000Z
SUMMARY:Zoom swimnastics session (5.30pm on Tuesday 31st March)
END:VEVENT
END:VCALENDAR
