BEGIN:VCALENDAR
VERSION:2.0
PRODID:-//Squarespace Inc/Squarespace 6//v6//EN
BEGIN:VEVENT
UID:5f8528cdd38c0032043f4057@squarespace.com
DTSTAMP:20201013T041108Z
DTSTART:20201203T063000Z
DTEND:20201203T073000Z
SUMMARY:Zoom swimnastics session (5.30pm on Thursday 3rd December)
END:VEVENT
END:VCALENDAR
