BEGIN:VCALENDAR
VERSION:2.0
PRODID:-//Squarespace Inc/Squarespace 6//v6//EN
BEGIN:VEVENT
UID:600f44e5c2d3864dc1f400f8@squarespace.com
DTSTAMP:20210125T222419Z
DTSTART:20210203T054500Z
DTEND:20210203T064500Z
SUMMARY:Zoom swimnastics session (4.45pm on Wednesday 3rd February)
END:VEVENT
END:VCALENDAR
