BEGIN:VCALENDAR
VERSION:2.0
PRODID:-//Squarespace Inc/Squarespace 6//v6//EN
BEGIN:VEVENT
UID:5f309d01df524e64bc2e854c@squarespace.com
DTSTAMP:20200810T010415Z
DTSTART:20200903T073000Z
DTEND:20200903T083000Z
SUMMARY:Zoom swimnastics session (5.30pm on Thursday 3rd September)
END:VEVENT
END:VCALENDAR
