BEGIN:VCALENDAR
VERSION:2.0
PRODID:-//Squarespace Inc/Squarespace 6//v6//EN
BEGIN:VEVENT
UID:5e7d94cf554fd6780a58257d@squarespace.com
DTSTAMP:20200327T062747Z
DTSTART:20200403T220000Z
DTEND:20200403T230000Z
SUMMARY:Zoom swimnastics session (9.00am on Saturday 4th April)
END:VEVENT
END:VCALENDAR
