BEGIN:VCALENDAR
VERSION:2.0
PRODID:-//Squarespace Inc/Squarespace 6//v6//EN
BEGIN:VEVENT
UID:5ef14ed6cc152d3b60f4a7d6@squarespace.com
DTSTAMP:20200703T084538Z
DTSTART:20200703T230000Z
DTEND:20200704T000000Z
SUMMARY:Zoom swimnastics session (9.00am on Saturday 4th July)
END:VEVENT
END:VCALENDAR
