BEGIN:VCALENDAR
VERSION:2.0
PRODID:-//Squarespace Inc/Squarespace 6//v6//EN
BEGIN:VEVENT
UID:5ecb0a26d02304239eca11d3@squarespace.com
DTSTAMP:20200524T235905Z
DTSTART:20200604T073000Z
DTEND:20200604T083000Z
SUMMARY:Zoom swimnastics session (5.30pm on Thursday 4th June)
END:VEVENT
END:VCALENDAR
