BEGIN:VCALENDAR
VERSION:2.0
PRODID:-//Squarespace Inc/Squarespace 6//v6//EN
BEGIN:VEVENT
UID:600f43d7a41a90465b9e9cf9@squarespace.com
DTSTAMP:20210125T222039Z
DTSTART:20210205T054500Z
DTEND:20210205T064500Z
SUMMARY:Zoom swimnastics session (4.45pm on Friday 5th February) 
END:VEVENT
END:VCALENDAR
