BEGIN:VCALENDAR
VERSION:2.0
PRODID:-//Squarespace Inc/Squarespace 6//v6//EN
BEGIN:VEVENT
UID:5f5ef3e48c76ad34c8b9b8bd@squarespace.com
DTSTAMP:20200914T043914Z
DTSTART:20201005T063000Z
DTEND:20201005T073000Z
SUMMARY:Zoom swimnastics session (5.30pm on Monday 5th October)
END:VEVENT
END:VCALENDAR
