BEGIN:VCALENDAR
VERSION:2.0
PRODID:-//Squarespace Inc/Squarespace 6//v6//EN
BEGIN:VEVENT
UID:5e9cff209da3a560e8424161@squarespace.com
DTSTAMP:20200420T014733Z
DTSTART:20200505T073000Z
DTEND:20200505T083000Z
SUMMARY:Zoom swimnastics session (5.30pm on Tuesday 5th May)
END:VEVENT
END:VCALENDAR
