BEGIN:VCALENDAR
VERSION:2.0
PRODID:-//Squarespace Inc/Squarespace 6//v6//EN
BEGIN:VEVENT
UID:5f5ef3fc95f3c97d388273ce@squarespace.com
DTSTAMP:20200914T043938Z
DTSTART:20201006T063000Z
DTEND:20201006T073000Z
SUMMARY:Zoom swimnastics session (5.30pm on Tuesday 6th October)
END:VEVENT
END:VCALENDAR
