BEGIN:VCALENDAR
VERSION:2.0
PRODID:-//Squarespace Inc/Squarespace 6//v6//EN
BEGIN:VEVENT
UID:5e7d95355dad3f3c15d0e50e@squarespace.com
DTSTAMP:20200406T011523Z
DTSTART:20200406T073000Z
DTEND:20200406T083000Z
SUMMARY:Zoom swimnastics session (5.30pm on Monday 4th April)
END:VEVENT
END:VCALENDAR
