BEGIN:VCALENDAR
VERSION:2.0
PRODID:-//Squarespace Inc/Squarespace 6//v6//EN
BEGIN:VEVENT
UID:5ecb0a52063db750f27dfbd3@squarespace.com
DTSTAMP:20200524T235952Z
DTSTART:20200605T230000Z
DTEND:20200606T000000Z
SUMMARY:Zoom swimnastics session (9.00am on Saturday 6th June)
END:VEVENT
END:VCALENDAR
