BEGIN:VCALENDAR
VERSION:2.0
PRODID:-//Squarespace Inc/Squarespace 6//v6//EN
BEGIN:VEVENT
UID:5f309d31476fd6536ab0b703@squarespace.com
DTSTAMP:20200810T010504Z
DTSTART:20200907T073000Z
DTEND:20200907T083000Z
SUMMARY:Zoom swimnastics session (5.30pm on Monday 7th September)
END:VEVENT
END:VCALENDAR
