BEGIN:VCALENDAR
VERSION:2.0
PRODID:-//Squarespace Inc/Squarespace 6//v6//EN
BEGIN:VEVENT
UID:5e7d959c5dad3f3c15d0ed9b@squarespace.com
DTSTAMP:20200327T062907Z
DTSTART:20200407T073000Z
DTEND:20200407T083000Z
SUMMARY:Zoom swimnastics session (5.30pm on Tuesday 7th April)
END:VEVENT
END:VCALENDAR
