BEGIN:VCALENDAR
VERSION:2.0
PRODID:-//Squarespace Inc/Squarespace 6//v6//EN
BEGIN:VEVENT
UID:5ef14f13da8fa02c3ea03d71@squarespace.com
DTSTAMP:20200703T082937Z
DTSTART:20200707T073000Z
DTEND:20200707T083000Z
SUMMARY:Zoom swimnastics session (5.30pm on Tuesday 7th July)
END:VEVENT
END:VCALENDAR
