BEGIN:VCALENDAR
VERSION:2.0
PRODID:-//Squarespace Inc/Squarespace 6//v6//EN
BEGIN:VEVENT
UID:5e9cffaac8159d1018611c9d@squarespace.com
DTSTAMP:20200420T014950Z
DTSTART:20200507T073000Z
DTEND:20200507T083000Z
SUMMARY:Zoom swimnastics session (5.30pm on Thursday 7th May)
END:VEVENT
END:VCALENDAR
