BEGIN:VCALENDAR
VERSION:2.0
PRODID:-//Squarespace Inc/Squarespace 6//v6//EN
BEGIN:VEVENT
UID:5f852bbd4076656f3bf1bf35@squarespace.com
DTSTAMP:20201013T042341Z
DTSTART:20201208T063000Z
DTEND:20201208T073000Z
SUMMARY:Zoom swimnastics session (5.30pm on Tuesday 8th December)
END:VEVENT
END:VCALENDAR
