BEGIN:VCALENDAR
VERSION:2.0
PRODID:-//Squarespace Inc/Squarespace 6//v6//EN
BEGIN:VEVENT
UID:5ed6ce6740ef550d50edc367@squarespace.com
DTSTAMP:20200602T221107Z
DTSTART:20200608T073000Z
DTEND:20200608T083000Z
SUMMARY:Zoom swimnastics session (5.30pm on Monday 8th June)
END:VEVENT
END:VCALENDAR
