BEGIN:VCALENDAR
VERSION:2.0
PRODID:-//Squarespace Inc/Squarespace 6//v6//EN
BEGIN:VEVENT
UID:5f5ef42ec7f1b1361486b10c@squarespace.com
DTSTAMP:20200914T044027Z
DTSTART:20201008T063000Z
DTEND:20201008T073000Z
SUMMARY:Zoom swimnastics session (5.30pm on Thursday 8th October)
END:VEVENT
END:VCALENDAR
