BEGIN:VCALENDAR
VERSION:2.0
PRODID:-//Squarespace Inc/Squarespace 6//v6//EN
BEGIN:VEVENT
UID:5f309d494d055a0ce6ebcd37@squarespace.com
DTSTAMP:20200810T010529Z
DTSTART:20200908T073000Z
DTEND:20200908T083000Z
SUMMARY:Zoom swimnastics session (5.30pm on Tuesday 8th September)
END:VEVENT
END:VCALENDAR
